BEGIN:VCALENDAR
VERSION:2.0
PRODID:-//Gysinge Herrgård - ECPv6.15.20//NONSGML v1.0//EN
CALSCALE:GREGORIAN
METHOD:PUBLISH
X-WR-CALNAME:Gysinge Herrgård
X-ORIGINAL-URL:https://gysingeherrgard.se
X-WR-CALDESC:Händelser för Gysinge Herrgård
REFRESH-INTERVAL;VALUE=DURATION:PT1H
X-Robots-Tag:noindex
X-PUBLISHED-TTL:PT1H
BEGIN:VTIMEZONE
TZID:Europe/Stockholm
BEGIN:DAYLIGHT
TZOFFSETFROM:+0100
TZOFFSETTO:+0200
TZNAME:CEST
DTSTART:20250330T010000
END:DAYLIGHT
BEGIN:STANDARD
TZOFFSETFROM:+0200
TZOFFSETTO:+0100
TZNAME:CET
DTSTART:20251026T010000
END:STANDARD
BEGIN:DAYLIGHT
TZOFFSETFROM:+0100
TZOFFSETTO:+0200
TZNAME:CEST
DTSTART:20260329T010000
END:DAYLIGHT
BEGIN:STANDARD
TZOFFSETFROM:+0200
TZOFFSETTO:+0100
TZNAME:CET
DTSTART:20261025T010000
END:STANDARD
BEGIN:DAYLIGHT
TZOFFSETFROM:+0100
TZOFFSETTO:+0200
TZNAME:CEST
DTSTART:20270328T010000
END:DAYLIGHT
BEGIN:STANDARD
TZOFFSETFROM:+0200
TZOFFSETTO:+0100
TZNAME:CET
DTSTART:20271031T010000
END:STANDARD
END:VTIMEZONE
BEGIN:VEVENT
DTSTART;TZID=Europe/Stockholm:20260501T170000
DTEND;TZID=Europe/Stockholm:20260501T220000
DTSTAMP:20260424T220653
CREATED:20250203T092727Z
LAST-MODIFIED:20260327T141816Z
UID:10000351-1777654800-1777672800@gysingeherrgard.se
SUMMARY:After Work
DESCRIPTION:Nu kör vi igång vår After Work i restaurangen  och du vill inte gå miste om det! \nTa del av vårt grymma erbjudande: Burgare och Bärs för endast 195 kr\, Grymma erbjudanden i baren och en härlig stämning. Eventet pågår varje fredag mellan 17.00 och 22.00\, med extra erbjudanden mellan 17.00–19.00. \nSamla dina vänner\, kollegor\, familj och fira in helgen med oss!
URL:https://gysingeherrgard.se/events/after-work-2-2/2026-05-01/
LOCATION:Orangeriet
CATEGORIES:På gång
ATTACH;FMTTYPE=image/png:https://gysingeherrgard.se/wp-content/uploads/2025/02/nyar-i-herrgardsmiljo-1.png
END:VEVENT
BEGIN:VEVENT
DTSTART;TZID=Europe/Stockholm:20260508T170000
DTEND;TZID=Europe/Stockholm:20260508T220000
DTSTAMP:20260424T220653
CREATED:20250203T092727Z
LAST-MODIFIED:20260327T141816Z
UID:10000352-1778259600-1778277600@gysingeherrgard.se
SUMMARY:After Work
DESCRIPTION:Nu kör vi igång vår After Work i restaurangen  och du vill inte gå miste om det! \nTa del av vårt grymma erbjudande: Burgare och Bärs för endast 195 kr\, Grymma erbjudanden i baren och en härlig stämning. Eventet pågår varje fredag mellan 17.00 och 22.00\, med extra erbjudanden mellan 17.00–19.00. \nSamla dina vänner\, kollegor\, familj och fira in helgen med oss!
URL:https://gysingeherrgard.se/events/after-work-2-2/2026-05-08/
LOCATION:Orangeriet
CATEGORIES:På gång
ATTACH;FMTTYPE=image/png:https://gysingeherrgard.se/wp-content/uploads/2025/02/nyar-i-herrgardsmiljo-1.png
END:VEVENT
BEGIN:VEVENT
DTSTART;TZID=Europe/Stockholm:20260515T170000
DTEND;TZID=Europe/Stockholm:20260515T220000
DTSTAMP:20260424T220653
CREATED:20250203T092727Z
LAST-MODIFIED:20260327T141816Z
UID:10000353-1778864400-1778882400@gysingeherrgard.se
SUMMARY:After Work
DESCRIPTION:Nu kör vi igång vår After Work i restaurangen  och du vill inte gå miste om det! \nTa del av vårt grymma erbjudande: Burgare och Bärs för endast 195 kr\, Grymma erbjudanden i baren och en härlig stämning. Eventet pågår varje fredag mellan 17.00 och 22.00\, med extra erbjudanden mellan 17.00–19.00. \nSamla dina vänner\, kollegor\, familj och fira in helgen med oss!
URL:https://gysingeherrgard.se/events/after-work-2-2/2026-05-15/
LOCATION:Orangeriet
CATEGORIES:På gång
ATTACH;FMTTYPE=image/png:https://gysingeherrgard.se/wp-content/uploads/2025/02/nyar-i-herrgardsmiljo-1.png
END:VEVENT
BEGIN:VEVENT
DTSTART;TZID=Europe/Stockholm:20260522T170000
DTEND;TZID=Europe/Stockholm:20260522T220000
DTSTAMP:20260424T220653
CREATED:20250203T092727Z
LAST-MODIFIED:20260327T141816Z
UID:10000354-1779469200-1779487200@gysingeherrgard.se
SUMMARY:After Work
DESCRIPTION:Nu kör vi igång vår After Work i restaurangen  och du vill inte gå miste om det! \nTa del av vårt grymma erbjudande: Burgare och Bärs för endast 195 kr\, Grymma erbjudanden i baren och en härlig stämning. Eventet pågår varje fredag mellan 17.00 och 22.00\, med extra erbjudanden mellan 17.00–19.00. \nSamla dina vänner\, kollegor\, familj och fira in helgen med oss!
URL:https://gysingeherrgard.se/events/after-work-2-2/2026-05-22/
LOCATION:Orangeriet
CATEGORIES:På gång
ATTACH;FMTTYPE=image/png:https://gysingeherrgard.se/wp-content/uploads/2025/02/nyar-i-herrgardsmiljo-1.png
END:VEVENT
BEGIN:VEVENT
DTSTART;TZID=Europe/Stockholm:20260529T170000
DTEND;TZID=Europe/Stockholm:20260529T220000
DTSTAMP:20260424T220653
CREATED:20250203T092727Z
LAST-MODIFIED:20260327T141816Z
UID:10000355-1780074000-1780092000@gysingeherrgard.se
SUMMARY:After Work
DESCRIPTION:Nu kör vi igång vår After Work i restaurangen  och du vill inte gå miste om det! \nTa del av vårt grymma erbjudande: Burgare och Bärs för endast 195 kr\, Grymma erbjudanden i baren och en härlig stämning. Eventet pågår varje fredag mellan 17.00 och 22.00\, med extra erbjudanden mellan 17.00–19.00. \nSamla dina vänner\, kollegor\, familj och fira in helgen med oss!
URL:https://gysingeherrgard.se/events/after-work-2-2/2026-05-29/
LOCATION:Orangeriet
CATEGORIES:På gång
ATTACH;FMTTYPE=image/png:https://gysingeherrgard.se/wp-content/uploads/2025/02/nyar-i-herrgardsmiljo-1.png
END:VEVENT
END:VCALENDAR